BEGIN:VCALENDAR
VERSION:2.0
PRODID:-//Daniel Gil de Tejada - ECPv6.15.11//NONSGML v1.0//EN
CALSCALE:GREGORIAN
METHOD:PUBLISH
X-WR-CALNAME:Daniel Gil de Tejada
X-ORIGINAL-URL:https://www.danielgildetejada.es
X-WR-CALDESC:Eventos para Daniel Gil de Tejada
REFRESH-INTERVAL;VALUE=DURATION:PT1H
X-Robots-Tag:noindex
X-PUBLISHED-TTL:PT1H
BEGIN:VTIMEZONE
TZID:Europe/Madrid
BEGIN:DAYLIGHT
TZOFFSETFROM:+0100
TZOFFSETTO:+0200
TZNAME:CEST
DTSTART:20240331T010000
END:DAYLIGHT
BEGIN:STANDARD
TZOFFSETFROM:+0200
TZOFFSETTO:+0100
TZNAME:CET
DTSTART:20241027T010000
END:STANDARD
BEGIN:DAYLIGHT
TZOFFSETFROM:+0100
TZOFFSETTO:+0200
TZNAME:CEST
DTSTART:20250330T010000
END:DAYLIGHT
BEGIN:STANDARD
TZOFFSETFROM:+0200
TZOFFSETTO:+0100
TZNAME:CET
DTSTART:20251026T010000
END:STANDARD
BEGIN:DAYLIGHT
TZOFFSETFROM:+0100
TZOFFSETTO:+0200
TZNAME:CEST
DTSTART:20260329T010000
END:DAYLIGHT
BEGIN:STANDARD
TZOFFSETFROM:+0200
TZOFFSETTO:+0100
TZNAME:CET
DTSTART:20261025T010000
END:STANDARD
END:VTIMEZONE
BEGIN:VTIMEZONE
TZID:UTC
BEGIN:STANDARD
TZOFFSETFROM:+0000
TZOFFSETTO:+0000
TZNAME:UTC
DTSTART:20150101T000000
END:STANDARD
END:VTIMEZONE
BEGIN:VEVENT
DTSTART;VALUE=DATE:20250129
DTEND;VALUE=DATE:20250130
DTSTAMP:20260422T175418
CREATED:20250127T120732Z
LAST-MODIFIED:20250127T120950Z
UID:967-1738108800-1738195199@www.danielgildetejada.es
SUMMARY:Manon Lescaut (G. Puccini)
DESCRIPTION:EVENTO\nManon Lescaut (G. Puccini)\nAmics de l’Ópera de Sabadell \nCAST\n\nSvetla Krasteva\nEnrique Ferrer\nEnric Martínez-Castignani\nCarles Cremades\, Juan Carlos Esteve\nCarles Ortiz\nLaura Brasó\nPau Armengol\nAlbert Espinosa\nSinho Kim\nJoaquim Cornet\nOrquesta Sinfónica del Vallés. Cor d´amics de l´ópera de Sabadell
URL:https://www.danielgildetejada.es/eventos/manon-lescaut-g-puccini-2/
ATTACH;FMTTYPE=image/jpeg:https://www.danielgildetejada.es/wp-content/uploads/2024/10/La-boheme.jpg
END:VEVENT
BEGIN:VEVENT
DTSTART;VALUE=DATE:20170222
DTEND;VALUE=DATE:20170301
DTSTAMP:20260422T175418
CREATED:20170718T094018Z
LAST-MODIFIED:20170718T095013Z
UID:358-1487721600-1488326399@www.danielgildetejada.es
SUMMARY:Manon Lescaut (G. Puccini)
DESCRIPTION:EVENTO\nManon Lescaut (G. Puccini)\nAmics de l’Ópera de Sabadell \nCAST\n\nSvetla Krasteva\nEnrique Ferrer\nEnric Martínez-Castignani\nCarles Cremades\, Juan Carlos Esteve\nCarles Ortiz\nLaura Brasó\nPau Armengol\nAlbert Espinosa\nSinho Kim\nJoaquim Cornet\nOrquesta Sinfónica del Vallés. Cor d´amics de l´ópera de Sabadell
URL:https://www.danielgildetejada.es/eventos/manon-lescaut-g-puccini/
END:VEVENT
BEGIN:VEVENT
DTSTART;VALUE=DATE:20170205
DTEND;VALUE=DATE:20170206
DTSTAMP:20260422T175418
CREATED:20170718T092601Z
LAST-MODIFIED:20170718T095151Z
UID:354-1486252800-1486339199@www.danielgildetejada.es
SUMMARY:Concierto Concurso Francisco Viñas
DESCRIPTION:EVENTO\nConcierto Concurso Francisco Viñas\nTeatro Real\, Madrid \nCAST\n\nPetr Nekoranec\nAdriana González\nCarles Pachón\nElena Bezgodkova\nXabier Anduaga\nOrquesta Sinfónica de Madrid
URL:https://www.danielgildetejada.es/eventos/concierto-concurso-francisco-vinas/
END:VEVENT
BEGIN:VEVENT
DTSTART;VALUE=DATE:20170122
DTEND;VALUE=DATE:20170123
DTSTAMP:20260422T175418
CREATED:20170718T091239Z
LAST-MODIFIED:20170718T095229Z
UID:347-1485043200-1485129599@www.danielgildetejada.es
SUMMARY:Concierto Final Concurso Tenor Viñas
DESCRIPTION:EVENTO\nConcierto Final Concurso Tenor Viñas\nGran Teatre del Liceu \nCAST\n\nPetr Nekoranec\nAdriana González\nCarles Pachón\nElena Bezgodkova\nXabier Anduaga\nElbenita Kajtazi\nJaegyeong Jo\nOrquesta del Gran Teatre del Liceu
URL:https://www.danielgildetejada.es/eventos/concierto-final-concurso-tenor-vinas/
END:VEVENT
BEGIN:VEVENT
DTSTART;VALUE=DATE:20161204
DTEND;VALUE=DATE:20161230
DTSTAMP:20260422T175418
CREATED:20170719T084617Z
LAST-MODIFIED:20170719T084617Z
UID:536-1480809600-1483055999@www.danielgildetejada.es
SUMMARY:LUCIA DI LAMMERMOOR
DESCRIPTION:EVENTO\nLUCIA DI LAMMERMOOR Gran teatre del Liceu\nCAST\n\nElena Mosuc\nMaría José Moreno\nJuan Diego Flórez\nIsmael Jordi\nMarco Caria\nGiorgio Caoduro\nSimón Orfila\nMarko Mimica\nAlbert Casals\nJorge Rodríguez Norton y Sandra Ferrández\nAsistente musical del maestro Marco Armiliato\nOrquesta y Coro del Gran Teatre del Liceu.
URL:https://www.danielgildetejada.es/eventos/lucia-di-lammermoor/
END:VEVENT
BEGIN:VEVENT
DTSTART;VALUE=DATE:20161101
DTEND;VALUE=DATE:20161118
DTSTAMP:20260422T175418
CREATED:20170719T084215Z
LAST-MODIFIED:20170719T084215Z
UID:531-1477958400-1479427199@www.danielgildetejada.es
SUMMARY:LE NOZZE DI FIGARO
DESCRIPTION:EVENTO\nLE NOZZE DI FIGARO\nAssociació d´Amics de l´Òpera de Sabadell\nCAST\n\nToni Marsol\nNuria Vilà\nMarta Matheu\, Carlos Daza\nLaura Vila\, Eugenia Montenegro\nXavier Aguilar\nJordi Casanova\nCarles Ortiz\nLaura Brasó\nJuan Carlos Esteve\nLaura Obradors y Esperança Vergés\nOrquesta Sinfónica del Vallés\nCor d´amics de l´Ópera de Sabadell\nTeatre de la Farándula Sabadell\nTeatre Fortuny \, Reus\nTeatre La Llotja\, Lleida\nTeatre Kursaal\, Manresa\nTeatre Auditori\, Sant Cugat\nTeatre Auditori\, Granollers\nTeatre Tarragona\, Tarragona
URL:https://www.danielgildetejada.es/eventos/le-nozze-di-figaro/
END:VEVENT
BEGIN:VEVENT
DTSTART;VALUE=DATE:20161028
DTEND;VALUE=DATE:20161031
DTSTAMP:20260422T175418
CREATED:20170719T083711Z
LAST-MODIFIED:20170719T083711Z
UID:527-1477612800-1477871999@www.danielgildetejada.es
SUMMARY:LE NOZZE DI FIGARO
DESCRIPTION:EVENTO\nLE NOZZE DI FIGARO Associació d´Amics de l´Òpera de Sabadell \nCAST\n\nToni Marsol\nNuria Vilà\nMarta Matheu\nCarlos Daza\nLaura Vila\nEugenia Montenegro\nXavier Aguilar\nJordi Casanova\nCarles Ortiz\nLaura Brasó\nJuan Carlos Esteve\nLaura Obradors y Esperança Vergés\nOrquesta Sinfónica del Vallés\nCor d´amics de l´Ópera de Sabadell. Teatre de la Farándula\, Sabadell
URL:https://www.danielgildetejada.es/eventos/le-nozze-di-figaro/
END:VEVENT
BEGIN:VEVENT
DTSTART;VALUE=DATE:20160907
DTEND;VALUE=DATE:20160914
DTSTAMP:20260422T175418
CREATED:20170719T083245Z
LAST-MODIFIED:20170719T083245Z
UID:522-1473206400-1473811199@www.danielgildetejada.es
SUMMARY:DIE FLEDERMAUS
DESCRIPTION:EVENTO\nDIE FLEDERMAUS\nIX Festival d´Òpera d´Eivissa (Auditorio de Santa Eulària)\nCAST\n\nMaite Alberola\nVicens Esteve\nElisa Vélez\nAlbert Casals\nCarlos Daza\nLaura Vila\nJoan Sebastià Colomer\nJordi Casanova\nIsabel Albaladejo y Miquel Gorriz\nOrquesta y Coros de Amigos de la Ópera de Ibiza
URL:https://www.danielgildetejada.es/eventos/die-fledermaus/
END:VEVENT
END:VCALENDAR